Workbook
Name CBriskDesc: #REF!
Name CombinationControl: #REF!
Name countBlanks: #REF!
Name csfSubcategory: #REF!
Name dateOfRecord: #REF!
Name detectScore: #REF!
Name disclaimerCell: #REF!
Name earliestAssessment: #REF!
Name familyIDs: #REF!
Name goRefs: #REF!
Name greenAbove: #REF!
Name identifyScore: #REF!
Name impactHigh: #REF!
Name impactLow: #REF!
Name impactMedium: #REF!
Name impactScale: #REF!
Name informationCell: #REF!
Name InScopeOptions: Dropdowns!#REF!
Name label025: #REF!
Name label025NB: #REF!
Name labelYN: #REF!
Name labelYNNB: #REF!
Name latestAssessment: #REF!
Name minAnsQuestions: #REF!
Name nameOfFirm: #REF!
Name nist53revision: #REF!
Name protectScore: #REF!
Name recoverScore: #REF!
Name redBelow: #REF!
Name resetControl: #REF!
Name respondScore: #REF!
Name responsibleParty: #REF!
Name riskMaximum: #REF!
Name riskMinimum: #REF!
Name riskRange: #REF!
Name riskStrategies: #REF!
Name scaleChoices: #REF!
Name scaleType: #REF!
Name scoreHigh: #REF!
Name scoreLabel: #REF!
Name scoreLow: #REF!
Name scoreMedium: #REF!
Name setHighScore: #REF!
Name setLowScore: #REF!
Name subCatList: #REF!
Name toggleSCriskRegister: #REF!
Name userV1: #REF!
Name userV2: #REF!
Name userV3: #REF!
Name userV4: #REF!
Name userV5: #REF!
Name workbookVersion: #REF!
Name yesNo: #REF!
Name yesNoNA: #REF!
Name zero2Five: #REF!

Sheet Information
C3: For more information about how to use the Risk Register, see:
C4: https://allaboutgrc.com/risk-register-template-for-information-security/
C6: Disclaimer
C7: This Excel template is independently created and is not affiliated with, nor has it been officially endorsed by, any organizations.
C8: While efforts have been made to ensure accuracy and reliability, the content may contain errors or omissions.
C9: This template is provided "as is," and the creator assumes no liability for any mistakes or inaccuracies that may exist, nor for any decisions made based on its use.
C10: Users are encouraged to verify the information and adapt the template as necessary to suit their specific needs.
C11: Users are free to modify and share this template to fit their purposes. If modifications are made prior to sharing, please provide a link to the original template.

Sheet Dashboard
C95: LIKELIHOOD | D95: Highly Likely | E95: 5 | F95: =VLOOKUP($F$101&"-"&D95,RiskPivots!$E$153:$F$177,2,FALSE) -> 2 | H95: =VLOOKUP($H$101&"-"&D95,RiskPivots!$E$153:$F$177,2,FALSE) -> 2 | J95: =VLOOKUP($J$101&"-"&D95,RiskPivots!$E$153:$F$177,2,FALSE) -> 3 | L95: =VLOOKUP($L$101&"-"&D95,RiskPivots!$E$153:$F$177,2,FALSE) -> 2 | N95: =VLOOKUP($N$101&"-"&D95,RiskPivots!$E$153:$F$177,2,FALSE) -> 2
D96: Likely | E96: 4 | F96: =VLOOKUP($F$101&"-"&D96,RiskPivots!$E$153:$F$177,2,FALSE) -> 1 | H96: =VLOOKUP($H$101&"-"&D96,RiskPivots!$E$153:$F$177,2,FALSE) -> 0 | J96: =VLOOKUP($J$101&"-"&D96,RiskPivots!$E$153:$F$177,2,FALSE) -> 0 | L96: =VLOOKUP($L$101&"-"&D96,RiskPivots!$E$153:$F$177,2,FALSE) -> 1 | N96: =VLOOKUP($N$101&"-"&D96,RiskPivots!$E$153:$F$177,2,FALSE) -> 0
D97: Possible | E97: 3 | F97: =VLOOKUP($F$101&"-"&D97,RiskPivots!$E$153:$F$177,2,FALSE) -> 1 | H97: =VLOOKUP($H$101&"-"&D97,RiskPivots!$E$153:$F$177,2,FALSE) -> 0 | J97: =VLOOKUP($J$101&"-"&D97,RiskPivots!$E$153:$F$177,2,FALSE) -> 0 | L97: =VLOOKUP($L$101&"-"&D97,RiskPivots!$E$153:$F$177,2,FALSE) -> 1 | N97: =VLOOKUP($N$101&"-"&D97,RiskPivots!$E$153:$F$177,2,FALSE) -> 1
D98: Unlikely | E98: 2 | F98: =VLOOKUP($F$101&"-"&D98,RiskPivots!$E$153:$F$177,2,FALSE) -> 0 | H98: =VLOOKUP($H$101&"-"&D98,RiskPivots!$E$153:$F$177,2,FALSE) -> 0 | J98: =VLOOKUP($J$101&"-"&D98,RiskPivots!$E$153:$F$177,2,FALSE) -> 0 | L98: =VLOOKUP($L$101&"-"&D98,RiskPivots!$E$153:$F$177,2,FALSE) -> 0 | N98: =VLOOKUP($N$101&"-"&D98,RiskPivots!$E$153:$F$177,2,FALSE) -> 0
D99: Rare | E99: 1 | F99: =VLOOKUP($F$101&"-"&D99,RiskPivots!$E$153:$F$177,2,FALSE) -> 0 | H99: =VLOOKUP($H$101&"-"&D99,RiskPivots!$E$153:$F$177,2,FALSE) -> 0 | J99: =VLOOKUP($J$101&"-"&D99,RiskPivots!$E$153:$F$177,2,FALSE) -> 0 | L99: =VLOOKUP($L$101&"-"&D99,RiskPivots!$E$153:$F$177,2,FALSE) -> 0 | N99: =VLOOKUP($N$101&"-"&D99,RiskPivots!$E$153:$F$177,2,FALSE) -> 1
F100: 1 | H100: 2 | J100: 3 | L100: 4 | N100: 5
F101: Very Low | H101: Low | J101: Moderate | L101: High | N101: Very High
F102: IMPACT

Sheet Heatmap
I17: LIKELIHOOD | J17: Highly Likely | K17: 5 | M17: 10 | O17: 15 | Q17: 20 | S17: 25
J18: Likely | K18: 4 | M18: 8 | O18: 12 | Q18: 16 | S18: 20
J19: Possible | K19: 3 | M19: 6 | O19: 9 | Q19: 12 | S19: 15
J20: Unlikely | K20: 2 | M20: 4 | O20: 6 | Q20: 8 | S20: 10
J21: Rare | K21: 1 | M21: 2 | O21: 3 | Q21: 4 | S21: 5
K22: Very Low | M22: Low | O22: Moderate | Q22: High | S22: Very High
K23: IMPACT

Sheet Gantt chart
C3: Gantt start | D3: 45292
C4: Interval (months) | D4: 1
B6: Risks | C6: Start | D6: Due | F6: =D3 -> 45292 | G6: =EDATE(F6,$D$4) -> 45323 | H6: =EDATE(G6,$D$4) -> 45352 | I6: =EDATE(H6,$D$4) -> 45383 | J6: =EDATE(I6,$D$4) -> 45413 | K6: =EDATE(J6,$D$4) -> 45444 | L6: =EDATE(K6,$D$4) -> 45474 | M6: =EDATE(L6,$D$4) -> 45505 | N6: =EDATE(M6,$D$4) -> 45536 | ... AC6: =EDATE(AB6,$D$4) -> 45992
B7: 1 - Risk 1 | C7: 45391 | D7: 45619 | F7: =IF(AND(F$6>=$C7, F$6<=$D7),"1","") | G7: =IF(AND(G$6>=$C7, G$6<=$D7),"1","") | H7: =IF(AND(H$6>=$C7, H$6<=$D7),"1","") | I7: =IF(AND(I$6>=$C7, I$6<=$D7),"1","") | J7: =IF(AND(J$6>=$C7, J$6<=$D7),"1","") -> 1 | K7: =IF(AND(K$6>=$C7, K$6<=$D7),"1","") -> 1 | L7: =IF(AND(L$6>=$C7, L$6<=$D7),"1","") -> 1 | M7: =IF(AND(M$6>=$C7, M$6<=$D7),"1","") -> 1 | ... AC7: =IF(AND(AC$6>=$C7, AC$6<=$D7),"1","")
B8: 2 - Risk 2 | C8: 45325 | D8: 45577 | F8: =IF(AND(F$6>=$C8, F$6<=$D8),"1","") | G8: =IF(AND(G$6>=$C8, G$6<=$D8),"1","") | H8: =IF(AND(H$6>=$C8, H$6<=$D8),"1","") -> 1 | I8: =IF(AND(I$6>=$C8, I$6<=$D8),"1","") -> 1 | J8: =IF(AND(J$6>=$C8, J$6<=$D8),"1","") -> 1 | K8: =IF(AND(K$6>=$C8, K$6<=$D8),"1","") -> 1 | L8: =IF(AND(L$6>=$C8, L$6<=$D8),"1","") -> 1 | M8: =IF(AND(M$6>=$C8, M$6<=$D8),"1","") -> 1 | ... AC8: =IF(AND(AC$6>=$C8, AC$6<=$D8),"1","")
B9: 3 - Risk 3 | C9: 45326 | D9: 45598 | F9: =IF(AND(F$6>=$C9, F$6<=$D9),"1","") | G9: =IF(AND(G$6>=$C9, G$6<=$D9),"1","") | H9: =IF(AND(H$6>=$C9, H$6<=$D9),"1","") -> 1 | I9: =IF(AND(I$6>=$C9, I$6<=$D9),"1","") -> 1 | J9: =IF(AND(J$6>=$C9, J$6<=$D9),"1","") -> 1 | K9: =IF(AND(K$6>=$C9, K$6<=$D9),"1","") -> 1 | L9: =IF(AND(L$6>=$C9, L$6<=$D9),"1","") -> 1 | M9: =IF(AND(M$6>=$C9, M$6<=$D9),"1","") -> 1 | ... AC9: =IF(AND(AC$6>=$C9, AC$6<=$D9),"1","")
B10: 4 - Risk 4 | C10: 45339 | D10: 45515 | F10: =IF(AND(F$6>=$C10, F$6<=$D10),"1","") | G10: =IF(AND(G$6>=$C10, G$6<=$D10),"1","") | H10: =IF(AND(H$6>=$C10, H$6<=$D10),"1","") -> 1 | I10: =IF(AND(I$6>=$C10, I$6<=$D10),"1","") -> 1 | J10: =IF(AND(J$6>=$C10, J$6<=$D10),"1","") -> 1 | K10: =IF(AND(K$6>=$C10, K$6<=$D10),"1","") -> 1 | L10: =IF(AND(L$6>=$C10, L$6<=$D10),"1","") -> 1 | M10: =IF(AND(M$6>=$C10, M$6<=$D10),"1","") -> 1 | ... AC10: =IF(AND(AC$6>=$C10, AC$6<=$D10),"1","")
F11: =IF(AND(F$6>=$C11, F$6<=$D11),"1","") | G11: =IF(AND(G$6>=$C11, G$6<=$D11),"1","") | H11: =IF(AND(H$6>=$C11, H$6<=$D11),"1","") | I11: =IF(AND(I$6>=$C11, I$6<=$D11),"1","") | J11: =IF(AND(J$6>=$C11, J$6<=$D11),"1","") | K11: =IF(AND(K$6>=$C11, K$6<=$D11),"1","") | L11: =IF(AND(L$6>=$C11, L$6<=$D11),"1","") | M11: =IF(AND(M$6>=$C11, M$6<=$D11),"1","") | ... AC11: =IF(AND(AC$6>=$C11, AC$6<=$D11),"1","")
F12: =IF(AND(F$6>=$C12, F$6<=$D12),"1","") | G12: =IF(AND(G$6>=$C12, G$6<=$D12),"1","") | H12: =IF(AND(H$6>=$C12, H$6<=$D12),"1","") | I12: =IF(AND(I$6>=$C12, I$6<=$D12),"1","") | J12: =IF(AND(J$6>=$C12, J$6<=$D12),"1","") | K12: =IF(AND(K$6>=$C12, K$6<=$D12),"1","") | L12: =IF(AND(L$6>=$C12, L$6<=$D12),"1","") | M12: =IF(AND(M$6>=$C12, M$6<=$D12),"1","") | ... AC12: =IF(AND(AC$6>=$C12, AC$6<=$D12),"1","")
F13: =IF(AND(F$6>=$C13, F$6<=$D13),"1","") | G13: =IF(AND(G$6>=$C13, G$6<=$D13),"1","") | H13: =IF(AND(H$6>=$C13, H$6<=$D13),"1","") | I13: =IF(AND(I$6>=$C13, I$6<=$D13),"1","") | J13: =IF(AND(J$6>=$C13, J$6<=$D13),"1","") | K13: =IF(AND(K$6>=$C13, K$6<=$D13),"1","") | L13: =IF(AND(L$6>=$C13, L$6<=$D13),"1","") | M13: =IF(AND(M$6>=$C13, M$6<=$D13),"1","") | ... AC13: =IF(AND(AC$6>=$C13, AC$6<=$D13),"1","")
F14: =IF(AND(F$6>=$C14, F$6<=$D14),"1","") | G14: =IF(AND(G$6>=$C14, G$6<=$D14),"1","") | H14: =IF(AND(H$6>=$C14, H$6<=$D14),"1","") | I14: =IF(AND(I$6>=$C14, I$6<=$D14),"1","") | J14: =IF(AND(J$6>=$C14, J$6<=$D14),"1","") | K14: =IF(AND(K$6>=$C14, K$6<=$D14),"1","") | L14: =IF(AND(L$6>=$C14, L$6<=$D14),"1","") | M14: =IF(AND(M$6>=$C14, M$6<=$D14),"1","") | ... AC14: =IF(AND(AC$6>=$C14, AC$6<=$D14),"1","")
F15: =IF(AND(F$6>=$C15, F$6<=$D15),"1","") | G15: =IF(AND(G$6>=$C15, G$6<=$D15),"1","") | H15: =IF(AND(H$6>=$C15, H$6<=$D15),"1","") | I15: =IF(AND(I$6>=$C15, I$6<=$D15),"1","") | J15: =IF(AND(J$6>=$C15, J$6<=$D15),"1","") | K15: =IF(AND(K$6>=$C15, K$6<=$D15),"1","") | L15: =IF(AND(L$6>=$C15, L$6<=$D15),"1","") | M15: =IF(AND(M$6>=$C15, M$6<=$D15),"1","") | ... AC15: =IF(AND(AC$6>=$C15, AC$6<=$D15),"1","")
F16: =IF(AND(F$6>=$C16, F$6<=$D16),"1","") | G16: =IF(AND(G$6>=$C16, G$6<=$D16),"1","") | H16: =IF(AND(H$6>=$C16, H$6<=$D16),"1","") | I16: =IF(AND(I$6>=$C16, I$6<=$D16),"1","") | J16: =IF(AND(J$6>=$C16, J$6<=$D16),"1","") | K16: =IF(AND(K$6>=$C16, K$6<=$D16),"1","") | L16: =IF(AND(L$6>=$C16, L$6<=$D16),"1","") | M16: =IF(AND(M$6>=$C16, M$6<=$D16),"1","") | ... AC16: =IF(AND(AC$6>=$C16, AC$6<=$D16),"1","")
F17: =IF(AND(F$6>=$C17, F$6<=$D17),"1","") | G17: =IF(AND(G$6>=$C17, G$6<=$D17),"1","") | H17: =IF(AND(H$6>=$C17, H$6<=$D17),"1","") | I17: =IF(AND(I$6>=$C17, I$6<=$D17),"1","") | J17: =IF(AND(J$6>=$C17, J$6<=$D17),"1","") | K17: =IF(AND(K$6>=$C17, K$6<=$D17),"1","") | L17: =IF(AND(L$6>=$C17, L$6<=$D17),"1","") | M17: =IF(AND(M$6>=$C17, M$6<=$D17),"1","") | ... AC17: =IF(AND(AC$6>=$C17, AC$6<=$D17),"1","")
F18: =IF(AND(F$6>=$C18, F$6<=$D18),"1","") | G18: =IF(AND(G$6>=$C18, G$6<=$D18),"1","") | H18: =IF(AND(H$6>=$C18, H$6<=$D18),"1","") | I18: =IF(AND(I$6>=$C18, I$6<=$D18),"1","") | J18: =IF(AND(J$6>=$C18, J$6<=$D18),"1","") | K18: =IF(AND(K$6>=$C18, K$6<=$D18),"1","") | L18: =IF(AND(L$6>=$C18, L$6<=$D18),"1","") | M18: =IF(AND(M$6>=$C18, M$6<=$D18),"1","") | ... AC18: =IF(AND(AC$6>=$C18, AC$6<=$D18),"1","")
F19: =IF(AND(F$6>=$C19, F$6<=$D19),"1","") | G19: =IF(AND(G$6>=$C19, G$6<=$D19),"1","") | H19: =IF(AND(H$6>=$C19, H$6<=$D19),"1","") | I19: =IF(AND(I$6>=$C19, I$6<=$D19),"1","") | J19: =IF(AND(J$6>=$C19, J$6<=$D19),"1","") | K19: =IF(AND(K$6>=$C19, K$6<=$D19),"1","") | L19: =IF(AND(L$6>=$C19, L$6<=$D19),"1","") | M19: =IF(AND(M$6>=$C19, M$6<=$D19),"1","") | ... AC19: =IF(AND(AC$6>=$C19, AC$6<=$D19),"1","")
F20: =IF(AND(F$6>=$C20, F$6<=$D20),"1","") | G20: =IF(AND(G$6>=$C20, G$6<=$D20),"1","") | H20: =IF(AND(H$6>=$C20, H$6<=$D20),"1","") | I20: =IF(AND(I$6>=$C20, I$6<=$D20),"1","") | J20: =IF(AND(J$6>=$C20, J$6<=$D20),"1","") | K20: =IF(AND(K$6>=$C20, K$6<=$D20),"1","") | L20: =IF(AND(L$6>=$C20, L$6<=$D20),"1","") | M20: =IF(AND(M$6>=$C20, M$6<=$D20),"1","") | ... AC20: =IF(AND(AC$6>=$C20, AC$6<=$D20),"1","")
F21: =IF(AND(F$6>=$C21, F$6<=$D21),"1","") | G21: =IF(AND(G$6>=$C21, G$6<=$D21),"1","") | H21: =IF(AND(H$6>=$C21, H$6<=$D21),"1","") | I21: =IF(AND(I$6>=$C21, I$6<=$D21),"1","") | J21: =IF(AND(J$6>=$C21, J$6<=$D21),"1","") | K21: =IF(AND(K$6>=$C21, K$6<=$D21),"1","") | L21: =IF(AND(L$6>=$C21, L$6<=$D21),"1","") | M21: =IF(AND(M$6>=$C21, M$6<=$D21),"1","") | ... AC21: =IF(AND(AC$6>=$C21, AC$6<=$D21),"1","")
F22: =IF(AND(F$6>=$C22, F$6<=$D22),"1","") | G22: =IF(AND(G$6>=$C22, G$6<=$D22),"1","") | H22: =IF(AND(H$6>=$C22, H$6<=$D22),"1","") | I22: =IF(AND(I$6>=$C22, I$6<=$D22),"1","") | J22: =IF(AND(J$6>=$C22, J$6<=$D22),"1","") | K22: =IF(AND(K$6>=$C22, K$6<=$D22),"1","") | L22: =IF(AND(L$6>=$C22, L$6<=$D22),"1","") | M22: =IF(AND(M$6>=$C22, M$6<=$D22),"1","") | ... AC22: =IF(AND(AC$6>=$C22, AC$6<=$D22),"1","")
... F106: =IF(AND(F$6>=$C106, F$6<=$D106),"1","") | G106: =IF(AND(G$6>=$C106, G$6<=$D106),"1","") | H106: =IF(AND(H$6>=$C106, H$6<=$D106),"1","") | I106: =IF(AND(I$6>=$C106, I$6<=$D106),"1","") | J106: =IF(AND(J$6>=$C106, J$6<=$D106),"1","") | K106: =IF(AND(K$6>=$C106, K$6<=$D106),"1","") | L106: =IF(AND(L$6>=$C106, L$6<=$D106),"1","") | M106: =IF(AND(M$6>=$C106, M$6<=$D106),"1","") | ... AC106: =IF(AND(AC$6>=$C106, AC$6<=$D106),"1","")

Sheet Risk Register
B2: Risk Identification | L2: Risk Analysis | R2: Risk Response | T2: Residual Risk | Z2: Tracking | AF2: Calculations for Pivots
A3: Risk ID | B3: Risk Title | C3: Risk Description | D3: Created Date | E3: Cause | F3: Consequence | G3: Risk Category | H3: Risk comments | I3: Department | J3: Risk Owner | K3: Existing measures and controls | L3: Inherent Impact Level | M3: Inherent Impact Rating | N3: Inherent Likelihood Level | O3: Inherent Likelihood Rating | P3: Inherent Risk Level | Q3: Inherent Risk Rating | R3: Risk Response Strategy | S3: New measures and controls | T3: Residual Impact Level | U3: Residual Impact Rating | V3: Residual Likelihood Level | W3: Residual Likelihood Rating | X3: Residual Risk Level | Y3: Residual Risk Rating | Z3: Risk Status | AA3: Status comments | AB3: Risk Due Date | AC3: Risk Close Date | AD3: Overdue? | AE3: Next Review Date | AF3: Due Month | AG3: Created Month | AH3: Risk-Change-Date | AI3: Corrected-Risk-Change-Date | AJ3: Inherent-I-L-Combo | AK3: Residual-I-L-Combo | AL3: Mitigated? | AM3: Current-Impact | AN3: Current-Likelihood | AO3: Current-I-L-Combo | AP3: Current Risk Level
A4: 1 | B4: Risk 1 | C4: sec1 | D4: 45292 | E4: sec1 | F4: sec1 | G4: Data breach | I4: Information Technology (IT) | L4: Very Low | M4: =VLOOKUP(RiskRegister[[#This Row],[Inherent Impact Level]],'Rating factors'!$F$4:$G$9,2,FALSE) -> 1 | N4: Highly Likely | O4: =VLOOKUP(RiskRegister[[#This Row],[Inherent Likelihood Level]],'Rating factors'!$F$16:$G$21,2,FALSE) -> 5 | P4: =IFERROR(VLOOKUP(RiskRegister[[#This Row],[Inherent Risk Rating]],'Rating factors'!$F$30:$G$44,2,FALSE),"-- Error --") -> Medium | Q4: =IFERROR(RiskRegister[[#This Row],[Inherent Impact Rating]]*RiskRegister[[#This Row],[Inherent Likelihood Rating]],"-- Error --") -> 5 | R4: Accept | T4: Very Low | U4: =VLOOKUP(RiskRegister[[#This Row],[Residual Impact Level]],'Rating factors'!$F$4:$G$9,2,FALSE) -> 1 | V4: Highly Likely | W4: =VLOOKUP(RiskRegister[[#This Row],[Residual Likelihood Level]],'Rating factors'!$F$16:$G$21,2,FALSE) -> 5 | X4: =IFERROR(VLOOKUP(RiskRegister[[#This Row],[Residual Risk Rating]],'Rating factors'!$F$30:$G$44,2,FALSE),"-- Error --") -> Medium | Y4: =IFERROR(RiskRegister[[#This Row],[Residual Impact Rating]]*RiskRegister[[#This Row],[Residual Likelihood Rating]],"-- Error --") -> 5 | Z4: Open | AD4: =IF(ISBLANK(RiskRegister[[#This Row],[Risk Due Date]]), "Missing Risk Due Date", IF(RiskRegister[[#This Row],[Risk Due Date]] < TODAY(), "Overdue", "Not Overdue")) -> Missing Risk Due Date | AF4: =IF(ISBLANK(RiskRegister[[#This Row],[Risk Due Date]]), "Missing Risk Due Date", TEXT(RiskRegister[[#This Row],[Risk Due Date]], "YYYY-MM")) -> Missing Risk Due Date | AG4: =IF(RiskRegister[[#This Row],[Created Date]]="","Created Date missing",(TEXT(RiskRegister[[#This Row],[Created Date]],"mmm") & "-" & YEAR(RiskRegister[[#This Row],[Created Date]]))) -> Jan-2024 | AH4: =IF(RiskRegister[[#This Row],[Risk Status]]="Closed",RiskRegister[[#This Row],[Risk Close Date]],RiskRegister[[#This Row],[Risk Due Date]]) -> 0 | AI4: =IF(RiskRegister[[#This Row],[Risk-Change-Date]]=0,DATE(2030,1,1),RiskRegister[[#This Row],[Risk-Change-Date]]) -> 47484 | AJ4: =RiskRegister[[#This Row],[Inherent Impact Level]]&"-"&RiskRegister[[#This Row],[Inherent Likelihood Level]] -> Very Low-Highly Likely | AK4: =RiskRegister[[#This Row],[Residual Impact Level]]&"-"&RiskRegister[[#This Row],[Residual Likelihood Level]] -> Very Low-Highly Likely | AL4: =IF(OR(R4="-- Select Risk Response --", Z4="-- Select Risk Status --"), "Error", IF(AND(Z4="Closed", R4="Mitigate"), "Yes", "No")) -> No | AM4: =IF(RiskRegister[[#This Row],[Risk Status]]="Closed",RiskRegister[[#This Row],[Residual Impact Level]],RiskRegister[[#This Row],[Inherent Impact Level]]) -> Very Low | AN4: =IF(RiskRegister[[#This Row],[Risk Status]]="Closed",RiskRegister[[#This Row],[Residual Likelihood Level]],RiskRegister[[#This Row],[Inherent Likelihood Level]]) -> Highly Likely | AO4: =IF(RiskRegister[[#This Row],[Risk Status]]="Closed",RiskRegister[[#This Row],[Residual-I-L-Combo]],RiskRegister[[#This Row],[Inherent-I-L-Combo]]) -> Very Low-Highly Likely | AP4: =IF(Z4="Closed", X4, P4) -> Medium
A5: 2 | B5: Risk 2 | C5: sec2 | D5: 45414 | E5: sec2 | F5: sec2 | G5: Ransomware | I5: Information Technology (IT) | L5: Low | M5: =VLOOKUP(RiskRegister[[#This Row],[Inherent Impact Level]],'Rating factors'!$F$4:$G$9,2,FALSE) -> 2 | N5: Likely | O5: =VLOOKUP(RiskRegister[[#This Row],[Inherent Likelihood Level]],'Rating factors'!$F$16:$G$21,2,FALSE) -> 4 | P5: =IFERROR(VLOOKUP(RiskRegister[[#This Row],[Inherent Risk Rating]],'Rating factors'!$F$30:$G$44,2,FALSE),"-- Error --") -> Medium | Q5: =IFERROR(RiskRegister[[#This Row],[Inherent Impact Rating]]*RiskRegister[[#This Row],[Inherent Likelihood Rating]],"-- Error --") -> 8 | R5: Accept | T5: Low | U5: =VLOOKUP(RiskRegister[[#This Row],[Residual Impact Level]],'Rating factors'!$F$4:$G$9,2,FALSE) -> 2 | V5: Likely | W5: =VLOOKUP(RiskRegister[[#This Row],[Residual Likelihood Level]],'Rating factors'!$F$16:$G$21,2,FALSE) -> 4 | X5: =IFERROR(VLOOKUP(RiskRegister[[#This Row],[Residual Risk Rating]],'Rating factors'!$F$30:$G$44,2,FALSE),"-- Error --") -> Medium | Y5: =IFERROR(RiskRegister[[#This Row],[Residual Impact Rating]]*RiskRegister[[#This Row],[Residual Likelihood Rating]],"-- Error --") -> 8 | Z5: Closed | AD5: =IF(ISBLANK(RiskRegister[[#This Row],[Risk Due Date]]), "Missing Risk Due Date", IF(RiskRegister[[#This Row],[Risk Due Date]] < TODAY(), "Overdue", "Not Overdue")) -> Missing Risk Due Date | AF5: =IF(ISBLANK(RiskRegister[[#This Row],[Risk Due Date]]), "Missing Risk Due Date", TEXT(RiskRegister[[#This Row],[Risk Due Date]], "YYYY-MM")) -> Missing Risk Due Date | AG5: =IF(RiskRegister[[#This Row],[Created Date]]="","Created Date missing",(TEXT(RiskRegister[[#This Row],[Created Date]],"mmm") & "-" & YEAR(RiskRegister[[#This Row],[Created Date]]))) -> May-2024 | AH5: =IF(RiskRegister[[#This Row],[Risk Status]]="Closed",RiskRegister[[#This Row],[Risk Close Date]],RiskRegister[[#This Row],[Risk Due Date]]) -> 0 | AI5: =IF(RiskRegister[[#This Row],[Risk-Change-Date]]=0,DATE(2030,1,1),RiskRegister[[#This Row],[Risk-Change-Date]]) -> 47484 | AJ5: =RiskRegister[[#This Row],[Inherent Impact Level]]&"-"&RiskRegister[[#This Row],[Inherent Likelihood Level]] -> Low-Likely | AK5: =RiskRegister[[#This Row],[Residual Impact Level]]&"-"&RiskRegister[[#This Row],[Residual Likelihood Level]] -> Low-Likely | AL5: =IF(OR(R5="-- Select Risk Response --", Z5="-- Select Risk Status --"), "Error", IF(AND(Z5="Closed", R5="Mitigate"), "Yes", "No")) -> No | AM5: =IF(RiskRegister[[#This Row],[Risk Status]]="Closed",RiskRegister[[#This Row],[Residual Impact Level]],RiskRegister[[#This Row],[Inherent Impact Level]]) -> Low | AN5: =IF(RiskRegister[[#This Row],[Risk Status]]="Closed",RiskRegister[[#This Row],[Residual Likelihood Level]],RiskRegister[[#This Row],[Inherent Likelihood Level]]) -> Likely | AO5: =IF(RiskRegister[[#This Row],[Risk Status]]="Closed",RiskRegister[[#This Row],[Residual-I-L-Combo]],RiskRegister[[#This Row],[Inherent-I-L-Combo]]) -> Low-Likely | AP5: =IF(Z5="Closed", X5, P5) -> Medium
A6: 3 | B6: Risk 3 | C6: sec3 | D6: 45385 | E6: sec3 | F6: sec3 | G6: Insider Threats | I6: Information Technology (IT) | L6: Moderate | M6: =VLOOKUP(RiskRegister[[#This Row],[Inherent Impact Level]],'Rating factors'!$F$4:$G$9,2,FALSE) -> 3 | N6: Highly Likely | O6: =VLOOKUP(RiskRegister[[#This Row],[Inherent Likelihood Level]],'Rating factors'!$F$16:$G$21,2,FALSE) -> 5 | P6: =IFERROR(VLOOKUP(RiskRegister[[#This Row],[Inherent Risk Rating]],'Rating factors'!$F$30:$G$44,2,FALSE),"-- Error --") -> Medium | Q6: =IFERROR(RiskRegister[[#This Row],[Inherent Impact Rating]]*RiskRegister[[#This Row],[Inherent Likelihood Rating]],"-- Error --") -> 15 | R6: Mitigate | T6: Very Low | U6: =VLOOKUP(RiskRegister[[#This Row],[Residual Impact Level]],'Rating factors'!$F$4:$G$9,2,FALSE) -> 1 | V6: Likely | W6: =VLOOKUP(RiskRegister[[#This Row],[Residual Likelihood Level]],'Rating factors'!$F$16:$G$21,2,FALSE) -> 4 | X6: =IFERROR(VLOOKUP(RiskRegister[[#This Row],[Residual Risk Rating]],'Rating factors'!$F$30:$G$44,2,FALSE),"-- Error --") -> Low | Y6: =IFERROR(RiskRegister[[#This Row],[Residual Impact Rating]]*RiskRegister[[#This Row],[Residual Likelihood Rating]],"-- Error --") -> 4 | Z6: In Progress | AB6: 45420 | AD6: =IF(ISBLANK(RiskRegister[[#This Row],[Risk Due Date]]), "Missing Risk Due Date", IF(RiskRegister[[#This Row],[Risk Due Date]] < TODAY(), "Overdue", "Not Overdue")) -> Overdue | AF6: =IF(ISBLANK(RiskRegister[[#This Row],[Risk Due Date]]), "Missing Risk Due Date", TEXT(RiskRegister[[#This Row],[Risk Due Date]], "YYYY-MM")) -> 2024-05 | AG6: =IF(RiskRegister[[#This Row],[Created Date]]="","Created Date missing",(TEXT(RiskRegister[[#This Row],[Created Date]],"mmm") & "-" & YEAR(RiskRegister[[#This Row],[Created Date]]))) -> Apr-2024 | AH6: =IF(RiskRegister[[#This Row],[Risk Status]]="Closed",RiskRegister[[#This Row],[Risk Close Date]],RiskRegister[[#This Row],[Risk Due Date]]) -> 45420 | AI6: =IF(RiskRegister[[#This Row],[Risk-Change-Date]]=0,DATE(2030,1,1),RiskRegister[[#This Row],[Risk-Change-Date]]) -> 45420 | AJ6: =RiskRegister[[#This Row],[Inherent Impact Level]]&"-"&RiskRegister[[#This Row],[Inherent Likelihood Level]] -> Moderate-Highly Likely | AK6: =RiskRegister[[#This Row],[Residual Impact Level]]&"-"&RiskRegister[[#This Row],[Residual Likelihood Level]] -> Very Low-Likely | AL6: =IF(OR(R6="-- Select Risk Response --", Z6="-- Select Risk Status --"), "Error", IF(AND(Z6="Closed", R6="Mitigate"), "Yes", "No")) -> No | AM6: =IF(RiskRegister[[#This Row],[Risk Status]]="Closed",RiskRegister[[#This Row],[Residual Impact Level]],RiskRegister[[#This Row],[Inherent Impact Level]]) -> Moderate | AN6: =IF(RiskRegister[[#This Row],[Risk Status]]="Closed",RiskRegister[[#This Row],[Residual Likelihood Level]],RiskRegister[[#This Row],[Inherent Likelihood Level]]) -> Highly Likely | AO6: =IF(RiskRegister[[#This Row],[Risk Status]]="Closed",RiskRegister[[#This Row],[Residual-I-L-Combo]],RiskRegister[[#This Row],[Inherent-I-L-Combo]]) -> Moderate-Highly Likely | AP6: =IF(Z6="Closed", X6, P6) -> Medium
A7: 4 | B7: Risk 4 | C7: sec4 | D7: 45386 | E7: sec4 | F7: sec4 | G7: Supply Chain | I7: Information Technology (IT) | L7: High | M7: =VLOOKUP(RiskRegister[[#This Row],[Inherent Impact Level]],'Rating factors'!$F$4:$G$9,2,FALSE) -> 4 | N7: Likely | O7: =VLOOKUP(RiskRegister[[#This Row],[Inherent Likelihood Level]],'Rating factors'!$F$16:$G$21,2,FALSE) -> 4 | P7: =IFERROR(VLOOKUP(RiskRegister[[#This Row],[Inherent Risk Rating]],'Rating factors'!$F$30:$G$44,2,FALSE),"-- Error --") -> Medium | Q7: =IFERROR(RiskRegister[[#This Row],[Inherent Impact Rating]]*RiskRegister[[#This Row],[Inherent Likelihood Rating]],"-- Error --") -> 16 | R7: Mitigate | T7: Very Low | U7: =VLOOKUP(RiskRegister[[#This Row],[Residual Impact Level]],'Rating factors'!$F$4:$G$9,2,FALSE) -> 1 | V7: Unlikely | W7: =VLOOKUP(RiskRegister[[#This Row],[Residual Likelihood Level]],'Rating factors'!$F$16:$G$21,2,FALSE) -> 2 | X7: =IFERROR(VLOOKUP(RiskRegister[[#This Row],[Residual Risk Rating]],'Rating factors'!$F$30:$G$44,2,FALSE),"-- Error --") -> Low | Y7: =IFERROR(RiskRegister[[#This Row],[Residual Impact Rating]]*RiskRegister[[#This Row],[Residual Likelihood Rating]],"-- Error --") -> 2 | Z7: Open | AD7: =IF(ISBLANK(RiskRegister[[#This Row],[Risk Due Date]]), "Missing Risk Due Date", IF(RiskRegister[[#This Row],[Risk Due Date]] < TODAY(), "Overdue", "Not Overdue")) -> Missing Risk Due Date | AF7: =IF(ISBLANK(RiskRegister[[#This Row],[Risk Due Date]]), "Missing Risk Due Date", TEXT(RiskRegister[[#This Row],[Risk Due Date]], "YYYY-MM")) -> Missing Risk Due Date | AG7: =IF(RiskRegister[[#This Row],[Created Date]]="","Created Date missing",(TEXT(RiskRegister[[#This Row],[Created Date]],"mmm") & "-" & YEAR(RiskRegister[[#This Row],[Created Date]]))) -> Apr-2024 | AH7: =IF(RiskRegister[[#This Row],[Risk Status]]="Closed",RiskRegister[[#This Row],[Risk Close Date]],RiskRegister[[#This Row],[Risk Due Date]]) -> 0 | AI7: =IF(RiskRegister[[#This Row],[Risk-Change-Date]]=0,DATE(2030,1,1),RiskRegister[[#This Row],[Risk-Change-Date]]) -> 47484 | AJ7: =RiskRegister[[#This Row],[Inherent Impact Level]]&"-"&RiskRegister[[#This Row],[Inherent Likelihood Level]] -> High-Likely | AK7: =RiskRegister[[#This Row],[Residual Impact Level]]&"-"&RiskRegister[[#This Row],[Residual Likelihood Level]] -> Very Low-Unlikely | AL7: =IF(OR(R7="-- Select Risk Response --", Z7="-- Select Risk Status --"), "Error", IF(AND(Z7="Closed", R7="Mitigate"), "Yes", "No")) -> No | AM7: =IF(RiskRegister[[#This Row],[Risk Status]]="Closed",RiskRegister[[#This Row],[Residual Impact Level]],RiskRegister[[#This Row],[Inherent Impact Level]]) -> High | AN7: =IF(RiskRegister[[#This Row],[Risk Status]]="Closed",RiskRegister[[#This Row],[Residual Likelihood Level]],RiskRegister[[#This Row],[Inherent Likelihood Level]]) -> Likely | AO7: =IF(RiskRegister[[#This Row],[Risk Status]]="Closed",RiskRegister[[#This Row],[Residual-I-L-Combo]],RiskRegister[[#This Row],[Inherent-I-L-Combo]]) -> High-Likely | AP7: =IF(Z7="Closed", X7, P7) -> Medium
A8: 5 | B8: Risk 5 | C8: sec5 | D8: 45387 | E8: sec5 | F8: sec5 | G8: System Vulnerabilities | I8: Information Technology (IT) | L8: Very High | M8: =VLOOKUP(RiskRegister[[#This Row],[Inherent Impact Level]],'Rating factors'!$F$4:$G$9,2,FALSE) -> 5 | N8: Highly Likely | O8: =VLOOKUP(RiskRegister[[#This Row],[Inherent Likelihood Level]],'Rating factors'!$F$16:$G$21,2,FALSE) -> 5 | P8: =IFERROR(VLOOKUP(RiskRegister[[#This Row],[Inherent Risk Rating]],'Rating factors'!$F$30:$G$44,2,FALSE),"-- Error --") -> High | Q8: =IFERROR(RiskRegister[[#This Row],[Inherent Impact Rating]]*RiskRegister[[#This Row],[Inherent Likelihood Rating]],"-- Error --") -> 25 | R8: Mitigate | T8: Low | U8: =VLOOKUP(RiskRegister[[#This Row],[Residual Impact Level]],'Rating factors'!$F$4:$G$9,2,FALSE) -> 2 | V8: Likely | W8: =VLOOKUP(RiskRegister[[#This Row],[Residual Likelihood Level]],'Rating factors'!$F$16:$G$21,2,FALSE) -> 4 | X8: =IFERROR(VLOOKUP(RiskRegister[[#This Row],[Residual Risk Rating]],'Rating factors'!$F$30:$G$44,2,FALSE),"-- Error --") -> Medium | Y8: =IFERROR(RiskRegister[[#This Row],[Residual Impact Rating]]*RiskRegister[[#This Row],[Residual Likelihood Rating]],"-- Error --") -> 8 | Z8: In Progress | AB8: 45328 | AD8: =IF(ISBLANK(RiskRegister[[#This Row],[Risk Due Date]]), "Missing Risk Due Date", IF(RiskRegister[[#This Row],[Risk Due Date]] < TODAY(), "Overdue", "Not Overdue")) -> Overdue | AF8: =IF(ISBLANK(RiskRegister[[#This Row],[Risk Due Date]]), "Missing Risk Due Date", TEXT(RiskRegister[[#This Row],[Risk Due Date]], "YYYY-MM")) -> 2024-02 | AG8: =IF(RiskRegister[[#This Row],[Created Date]]="","Created Date missing",(TEXT(RiskRegister[[#This Row],[Created Date]],"mmm") & "-" & YEAR(RiskRegister[[#This Row],[Created Date]]))) -> Apr-2024 | AH8: =IF(RiskRegister[[#This Row],[Risk Status]]="Closed",RiskRegister[[#This Row],[Risk Close Date]],RiskRegister[[#This Row],[Risk Due Date]]) -> 45328 | AI8: =IF(RiskRegister[[#This Row],[Risk-Change-Date]]=0,DATE(2030,1,1),RiskRegister[[#This Row],[Risk-Change-Date]]) -> 45328 | AJ8: =RiskRegister[[#This Row],[Inherent Impact Level]]&"-"&RiskRegister[[#This Row],[Inherent Likelihood Level]] -> Very High-Highly Likely | AK8: =RiskRegister[[#This Row],[Residual Impact Level]]&"-"&RiskRegister[[#This Row],[Residual Likelihood Level]] -> Low-Likely | AL8: =IF(OR(R8="-- Select Risk Response --", Z8="-- Select Risk Status --"), "Error", IF(AND(Z8="Closed", R8="Mitigate"), "Yes", "No")) -> No | AM8: =IF(RiskRegister[[#This Row],[Risk Status]]="Closed",RiskRegister[[#This Row],[Residual Impact Level]],RiskRegister[[#This Row],[Inherent Impact Level]]) -> Very High | AN8: =IF(RiskRegister[[#This Row],[Risk Status]]="Closed",RiskRegister[[#This Row],[Residual Likelihood Level]],RiskRegister[[#This Row],[Inherent Likelihood Level]]) -> Highly Likely | AO8: =IF(RiskRegister[[#This Row],[Risk Status]]="Closed",RiskRegister[[#This Row],[Residual-I-L-Combo]],RiskRegister[[#This Row],[Inherent-I-L-Combo]]) -> Very High-Highly Likely | AP8: =IF(Z8="Closed", X8, P8) -> High
A9: 6 | B9: Risk 6 | C9: sec6 | D9: 45388 | E9: sec6 | F9: sec6 | G9: Social Engineering | I9: Information Technology (IT) | L9: Very Low | M9: =VLOOKUP(RiskRegister[[#This Row],[Inherent Impact Level]],'Rating factors'!$F$4:$G$9,2,FALSE) -> 1 | N9: Likely | O9: =VLOOKUP(RiskRegister[[#This Row],[Inherent Likelihood Level]],'Rating factors'!$F$16:$G$21,2,FALSE) -> 4 | P9: =IFERROR(VLOOKUP(RiskRegister[[#This Row],[Inherent Risk Rating]],'Rating factors'!$F$30:$G$44,2,FALSE),"-- Error --") -> Low | Q9: =IFERROR(RiskRegister[[#This Row],[Inherent Impact Rating]]*RiskRegister[[#This Row],[Inherent Likelihood Rating]],"-- Error --") -> 4 | R9: Mitigate | T9: Very Low | U9: =VLOOKUP(RiskRegister[[#This Row],[Residual Impact Level]],'Rating factors'!$F$4:$G$9,2,FALSE) -> 1 | V9: Unlikely | W9: =VLOOKUP(RiskRegister[[#This Row],[Residual Likelihood Level]],'Rating factors'!$F$16:$G$21,2,FALSE) -> 2 | X9: =IFERROR(VLOOKUP(RiskRegister[[#This Row],[Residual Risk Rating]],'Rating factors'!$F$30:$G$44,2,FALSE),"-- Error --") -> Low | Y9: =IFERROR(RiskRegister[[#This Row],[Residual Impact Rating]]*RiskRegister[[#This Row],[Residual Likelihood Rating]],"-- Error --") -> 2 | Z9: In Progress | AB9: 45218 | AD9: =IF(ISBLANK(RiskRegister[[#This Row],[Risk Due Date]]), "Missing Risk Due Date", IF(RiskRegister[[#This Row],[Risk Due Date]] < TODAY(), "Overdue", "Not Overdue")) -> Overdue | AF9: =IF(ISBLANK(RiskRegister[[#This Row],[Risk Due Date]]), "Missing Risk Due Date", TEXT(RiskRegister[[#This Row],[Risk Due Date]], "YYYY-MM")) -> 2023-10 | AG9: =IF(RiskRegister[[#This Row],[Created Date]]="","Created Date missing",(TEXT(RiskRegister[[#This Row],[Created Date]],"mmm") & "-" & YEAR(RiskRegister[[#This Row],[Created Date]]))) -> Apr-2024 | AH9: =IF(RiskRegister[[#This Row],[Risk Status]]="Closed",RiskRegister[[#This Row],[Risk Close Date]],RiskRegister[[#This Row],[Risk Due Date]]) -> 45218 | AI9: =IF(RiskRegister[[#This Row],[Risk-Change-Date]]=0,DATE(2030,1,1),RiskRegister[[#This Row],[Risk-Change-Date]]) -> 45218 | AJ9: =RiskRegister[[#This Row],[Inherent Impact Level]]&"-"&RiskRegister[[#This Row],[Inherent Likelihood Level]] -> Very Low-Likely | AK9: =RiskRegister[[#This Row],[Residual Impact Level]]&"-"&RiskRegister[[#This Row],[Residual Likelihood Level]] -> Very Low-Unlikely | AL9: =IF(OR(R9="-- Select Risk Response --", Z9="-- Select Risk Status --"), "Error", IF(AND(Z9="Closed", R9="Mitigate"), "Yes", "No")) -> No | AM9: =IF(RiskRegister[[#This Row],[Risk Status]]="Closed",RiskRegister[[#This Row],[Residual Impact Level]],RiskRegister[[#This Row],[Inherent Impact Level]]) -> Very Low | AN9: =IF(RiskRegister[[#This Row],[Risk Status]]="Closed",RiskRegister[[#This Row],[Residual Likelihood Level]],RiskRegister[[#This Row],[Inherent Likelihood Level]]) -> Likely | AO9: =IF(RiskRegister[[#This Row],[Risk Status]]="Closed",RiskRegister[[#This Row],[Residual-I-L-Combo]],RiskRegister[[#This Row],[Inherent-I-L-Combo]]) -> Very Low-Likely | AP9: =IF(Z9="Closed", X9, P9) -> Low
A10: 7 | B10: Risk 7 | C10: sec7 | D10: 45389 | E10: sec7 | F10: sec7 | G10: Identity and Access | I10: Information Technology (IT) | L10: Very High | M10: =VLOOKUP(RiskRegister[[#This Row],[Inherent Impact Level]],'Rating factors'!$F$4:$G$9,2,FALSE) -> 5 | N10: Rare | O10: =VLOOKUP(RiskRegister[[#This Row],[Inherent Likelihood Level]],'Rating factors'!$F$16:$G$21,2,FALSE) -> 1 | P10: =IFERROR(VLOOKUP(RiskRegister[[#This Row],[Inherent Risk Rating]],'Rating factors'!$F$30:$G$44,2,FALSE),"-- Error --") -> Medium | Q10: =IFERROR(RiskRegister[[#This Row],[Inherent Impact Rating]]*RiskRegister[[#This Row],[Inherent Likelihood Rating]],"-- Error --") -> 5 | R10: Mitigate | T10: Very Low | U10: =VLOOKUP(RiskRegister[[#This Row],[Residual Impact Level]],'Rating factors'!$F$4:$G$9,2,FALSE) -> 1 | V10: Rare | W10: =VLOOKUP(RiskRegister[[#This Row],[Residual Likelihood Level]],'Rating factors'!$F$16:$G$21,2,FALSE) -> 1 | X10: =IFERROR(VLOOKUP(RiskRegister[[#This Row],[Residual Risk Rating]],'Rating factors'!$F$30:$G$44,2,FALSE),"-- Error --") -> Low | Y10: =IFERROR(RiskRegister[[#This Row],[Residual Impact Rating]]*RiskRegister[[#This Row],[Residual Likelihood Rating]],"-- Error --") -> 1 | Z10: In Progress | AB10: 45180 | AD10: =IF(ISBLANK(RiskRegister[[#This Row],[Risk Due Date]]), "Missing Risk Due Date", IF(RiskRegister[[#This Row],[Risk Due Date]] < TODAY(), "Overdue", "Not Overdue")) -> Overdue | AF10: =IF(ISBLANK(RiskRegister[[#This Row],[Risk Due Date]]), "Missing Risk Due Date", TEXT(RiskRegister[[#This Row],[Risk Due Date]], "YYYY-MM")) -> 2023-09 | AG10: =IF(RiskRegister[[#This Row],[Created Date]]="","Created Date missing",(TEXT(RiskRegister[[#This Row],[Created Date]],"mmm") & "-" & YEAR(RiskRegister[[#This Row],[Created Date]]))) -> Apr-2024 | AH10: =IF(RiskRegister[[#This Row],[Risk Status]]="Closed",RiskRegister[[#This Row],[Risk Close Date]],RiskRegister[[#This Row],[Risk Due Date]]) -> 45180 | AI10: =IF(RiskRegister[[#This Row],[Risk-Change-Date]]=0,DATE(2030,1,1),RiskRegister[[#This Row],[Risk-Change-Date]]) -> 45180 | AJ10: =RiskRegister[[#This Row],[Inherent Impact Level]]&"-"&RiskRegister[[#This Row],[Inherent Likelihood Level]] -> Very High-Rare | AK10: =RiskRegister[[#This Row],[Residual Impact Level]]&"-"&RiskRegister[[#This Row],[Residual Likelihood Level]] -> Very Low-Rare | AL10: =IF(OR(R10="-- Select Risk Response --", Z10="-- Select Risk Status --"), "Error", IF(AND(Z10="Closed", R10="Mitigate"), "Yes", "No")) -> No | AM10: =IF(RiskRegister[[#This Row],[Risk Status]]="Closed",RiskRegister[[#This Row],[Residual Impact Level]],RiskRegister[[#This Row],[Inherent Impact Level]]) -> Very High | AN10: =IF(RiskRegister[[#This Row],[Risk Status]]="Closed",RiskRegister[[#This Row],[Residual Likelihood Level]],RiskRegister[[#This Row],[Inherent Likelihood Level]]) -> Rare | AO10: =IF(RiskRegister[[#This Row],[Risk Status]]="Closed",RiskRegister[[#This Row],[Residual-I-L-Combo]],RiskRegister[[#This Row],[Inherent-I-L-Combo]]) -> Very High-Rare | AP10: =IF(Z10="Closed", X10, P10) -> Medium
A11: 8 | B11: Risk 8 | C11: sec8 | D11: 45390 | E11: sec8 | F11: sec8 | G11: Non-compliance | I11: Information Technology (IT) | L11: Low | M11: =VLOOKUP(RiskRegister[[#This Row],[Inherent Impact Level]],'Rating factors'!$F$4:$G$9,2,FALSE) -> 2 | N11: Unlikely | O11: =VLOOKUP(RiskRegister[[#This Row],[Inherent Likelihood Level]],'Rating factors'!$F$16:$G$21,2,FALSE) -> 2 | P11: =IFERROR(VLOOKUP(RiskRegister[[#This Row],[Inherent Risk Rating]],'Rating factors'!$F$30:$G$44,2,FALSE),"-- Error --") -> Low | Q11: =IFERROR(RiskRegister[[#This Row],[Inherent Impact Rating]]*RiskRegister[[#This Row],[Inherent Likelihood Rating]],"-- Error --") -> 4 | R11: Mitigate | T11: Low | U11: =VLOOKUP(RiskRegister[[#This Row],[Residual Impact Level]],'Rating factors'!$F$4:$G$9,2,FALSE) -> 2 | V11: Unlikely | W11: =VLOOKUP(RiskRegister[[#This Row],[Residual Likelihood Level]],'Rating factors'!$F$16:$G$21,2,FALSE) -> 2 | X11: =IFERROR(VLOOKUP(RiskRegister[[#This Row],[Residual Risk Rating]],'Rating factors'!$F$30:$G$44,2,FALSE),"-- Error --") -> Low | Y11: =IFERROR(RiskRegister[[#This Row],[Residual Impact Rating]]*RiskRegister[[#This Row],[Residual Likelihood Rating]],"-- Error --") -> 4 | Z11: Closed | AD11: =IF(ISBLANK(RiskRegister[[#This Row],[Risk Due Date]]), "Missing Risk Due Date", IF(RiskRegister[[#This Row],[Risk Due Date]] < TODAY(), "Overdue", "Not Overdue")) -> Missing Risk Due Date | AF11: =IF(ISBLANK(RiskRegister[[#This Row],[Risk Due Date]]), "Missing Risk Due Date", TEXT(RiskRegister[[#This Row],[Risk Due Date]], "YYYY-MM")) -> Missing Risk Due Date | AG11: =IF(RiskRegister[[#This Row],[Created Date]]="","Created Date missing",(TEXT(RiskRegister[[#This Row],[Created Date]],"mmm") & "-" & YEAR(RiskRegister[[#This Row],[Created Date]]))) -> Apr-2024 | AH11: =IF(RiskRegister[[#This Row],[Risk Status]]="Closed",RiskRegister[[#This Row],[Risk Close Date]],RiskRegister[[#This Row],[Risk Due Date]]) -> 0 | AI11: =IF(RiskRegister[[#This Row],[Risk-Change-Date]]=0,DATE(2030,1,1),RiskRegister[[#This Row],[Risk-Change-Date]]) -> 47484 | AJ11: =RiskRegister[[#This Row],[Inherent Impact Level]]&"-"&RiskRegister[[#This Row],[Inherent Likelihood Level]] -> Low-Unlikely | AK11: =RiskRegister[[#This Row],[Residual Impact Level]]&"-"&RiskRegister[[#This Row],[Residual Likelihood Level]] -> Low-Unlikely | AL11: =IF(OR(R11="-- Select Risk Response --", Z11="-- Select Risk Status --"), "Error", IF(AND(Z11="Closed", R11="Mitigate"), "Yes", "No")) -> Yes | AM11: =IF(RiskRegister[[#This Row],[Risk Status]]="Closed",RiskRegister[[#This Row],[Residual Impact Level]],RiskRegister[[#This Row],[Inherent Impact Level]]) -> Low | AN11: =IF(RiskRegister[[#This Row],[Risk Status]]="Closed",RiskRegister[[#This Row],[Residual Likelihood Level]],RiskRegister[[#This Row],[Inherent Likelihood Level]]) -> Unlikely | AO11: =IF(RiskRegister[[#This Row],[Risk Status]]="Closed",RiskRegister[[#This Row],[Residual-I-L-Combo]],RiskRegister[[#This Row],[Inherent-I-L-Combo]]) -> Low-Unlikely | AP11: =IF(Z11="Closed", X11, P11) -> Low
A12: 9 | B12: Risk 9 | C12: sec9 | D12: 45391 | E12: sec9 | F12: sec9 | G12: Non-compliance | I12: Sales | L12: High | M12: =VLOOKUP(RiskRegister[[#This Row],[Inherent Impact Level]],'Rating factors'!$F$4:$G$9,2,FALSE) -> 4 | N12: Possible | O12: =VLOOKUP(RiskRegister[[#This Row],[Inherent Likelihood Level]],'Rating factors'!$F$16:$G$21,2,FALSE) -> 3 | P12: =IFERROR(VLOOKUP(RiskRegister[[#This Row],[Inherent Risk Rating]],'Rating factors'!$F$30:$G$44,2,FALSE),"-- Error --") -> Medium | Q12: =IFERROR(RiskRegister[[#This Row],[Inherent Impact Rating]]*RiskRegister[[#This Row],[Inherent Likelihood Rating]],"-- Error --") -> 12 | R12: Mitigate | T12: Very Low | U12: =VLOOKUP(RiskRegister[[#This Row],[Residual Impact Level]],'Rating factors'!$F$4:$G$9,2,FALSE) -> 1 | V12: Likely | W12: =VLOOKUP(RiskRegister[[#This Row],[Residual Likelihood Level]],'Rating factors'!$F$16:$G$21,2,FALSE) -> 4 | X12: =IFERROR(VLOOKUP(RiskRegister[[#This Row],[Residual Risk Rating]],'Rating factors'!$F$30:$G$44,2,FALSE),"-- Error --") -> Low | Y12: =IFERROR(RiskRegister[[#This Row],[Residual Impact Rating]]*RiskRegister[[#This Row],[Residual Likelihood Rating]],"-- Error --") -> 4 | Z12: Open | AD12: =IF(ISBLANK(RiskRegister[[#This Row],[Risk Due Date]]), "Missing Risk Due Date", IF(RiskRegister[[#This Row],[Risk Due Date]] < TODAY(), "Overdue", "Not Overdue")) -> Missing Risk Due Date | AF12: =IF(ISBLANK(RiskRegister[[#This Row],[Risk Due Date]]), "Missing Risk Due Date", TEXT(RiskRegister[[#This Row],[Risk Due Date]], "YYYY-MM")) -> Missing Risk Due Date | AG12: =IF(RiskRegister[[#This Row],[Created Date]]="","Created Date missing",(TEXT(RiskRegister[[#This Row],[Created Date]],"mmm") & "-" & YEAR(RiskRegister[[#This Row],[Created Date]]))) -> Apr-2024 | AH12: =IF(RiskRegister[[#This Row],[Risk Status]]="Closed",RiskRegister[[#This Row],[Risk Close Date]],RiskRegister[[#This Row],[Risk Due Date]]) -> 0 | AI12: =IF(RiskRegister[[#This Row],[Risk-Change-Date]]=0,DATE(2030,1,1),RiskRegister[[#This Row],[Risk-Change-Date]]) -> 47484 | AJ12: =RiskRegister[[#This Row],[Inherent Impact Level]]&"-"&RiskRegister[[#This Row],[Inherent Likelihood Level]] -> High-Possible | AK12: =RiskRegister[[#This Row],[Residual Impact Level]]&"-"&RiskRegister[[#This Row],[Residual Likelihood Level]] -> Very Low-Likely | AL12: =IF(OR(R12="-- Select Risk Response --", Z12="-- Select Risk Status --"), "Error", IF(AND(Z12="Closed", R12="Mitigate"), "Yes", "No")) -> No | AM12: =IF(RiskRegister[[#This Row],[Risk Status]]="Closed",RiskRegister[[#This Row],[Residual Impact Level]],RiskRegister[[#This Row],[Inherent Impact Level]]) -> High | AN12: =IF(RiskRegister[[#This Row],[Risk Status]]="Closed",RiskRegister[[#This Row],[Residual Likelihood Level]],RiskRegister[[#This Row],[Inherent Likelihood Level]]) -> Possible | AO12: =IF(RiskRegister[[#This Row],[Risk Status]]="Closed",RiskRegister[[#This Row],[Residual-I-L-Combo]],RiskRegister[[#This Row],[Inherent-I-L-Combo]]) -> High-Possible | AP12: =IF(Z12="Closed", X12, P12) -> Medium
A13: 10 | B13: Risk 10 | C13: sec10 | D13: 45392 | E13: sec10 | F13: sec10 | G13: Data breach | I13: Sales | L13: Very High | M13: =VLOOKUP(RiskRegister[[#This Row],[Inherent Impact Level]],'Rating factors'!$F$4:$G$9,2,FALSE) -> 5 | N13: Possible | O13: =VLOOKUP(RiskRegister[[#This Row],[Inherent Likelihood Level]],'Rating factors'!$F$16:$G$21,2,FALSE) -> 3 | P13: =IFERROR(VLOOKUP(RiskRegister[[#This Row],[Inherent Risk Rating]],'Rating factors'!$F$30:$G$44,2,FALSE),"-- Error --") -> Medium | Q13: =IFERROR(RiskRegister[[#This Row],[Inherent Impact Rating]]*RiskRegister[[#This Row],[Inherent Likelihood Rating]],"-- Error --") -> 15 | R13: Mitigate | T13: Low | U13: =VLOOKUP(RiskRegister[[#This Row],[Residual Impact Level]],'Rating factors'!$F$4:$G$9,2,FALSE) -> 2 | V13: Likely | W13: =VLOOKUP(RiskRegister[[#This Row],[Residual Likelihood Level]],'Rating factors'!$F$16:$G$21,2,FALSE) -> 4 | X13: =IFERROR(VLOOKUP(RiskRegister[[#This Row],[Residual Risk Rating]],'Rating factors'!$F$30:$G$44,2,FALSE),"-- Error --") -> Medium | Y13: =IFERROR(RiskRegister[[#This Row],[Residual Impact Rating]]*RiskRegister[[#This Row],[Residual Likelihood Rating]],"-- Error --") -> 8 | Z13: Open | AD13: =IF(ISBLANK(RiskRegister[[#This Row],[Risk Due Date]]), "Missing Risk Due Date", IF(RiskRegister[[#This Row],[Risk Due Date]] < TODAY(), "Overdue", "Not Overdue")) -> Missing Risk Due Date | AF13: =IF(ISBLANK(RiskRegister[[#This Row],[Risk Due Date]]), "Missing Risk Due Date", TEXT(RiskRegister[[#This Row],[Risk Due Date]], "YYYY-MM")) -> Missing Risk Due Date | AG13: =IF(RiskRegister[[#This Row],[Created Date]]="","Created Date missing",(TEXT(RiskRegister[[#This Row],[Created Date]],"mmm") & "-" & YEAR(RiskRegister[[#This Row],[Created Date]]))) -> Apr-2024 | AH13: =IF(RiskRegister[[#This Row],[Risk Status]]="Closed",RiskRegister[[#This Row],[Risk Close Date]],RiskRegister[[#This Row],[Risk Due Date]]) -> 0 | AI13: =IF(RiskRegister[[#This Row],[Risk-Change-Date]]=0,DATE(2030,1,1),RiskRegister[[#This Row],[Risk-Change-Date]]) -> 47484 | AJ13: =RiskRegister[[#This Row],[Inherent Impact Level]]&"-"&RiskRegister[[#This Row],[Inherent Likelihood Level]] -> Very High-Possible | AK13: =RiskRegister[[#This Row],[Residual Impact Level]]&"-"&RiskRegister[[#This Row],[Residual Likelihood Level]] -> Low-Likely | AL13: =IF(OR(R13="-- Select Risk Response --", Z13="-- Select Risk Status --"), "Error", IF(AND(Z13="Closed", R13="Mitigate"), "Yes", "No")) -> No | AM13: =IF(RiskRegister[[#This Row],[Risk Status]]="Closed",RiskRegister[[#This Row],[Residual Impact Level]],RiskRegister[[#This Row],[Inherent Impact Level]]) -> Very High | AN13: =IF(RiskRegister[[#This Row],[Risk Status]]="Closed",RiskRegister[[#This Row],[Residual Likelihood Level]],RiskRegister[[#This Row],[Inherent Likelihood Level]]) -> Possible | AO13: =IF(RiskRegister[[#This Row],[Risk Status]]="Closed",RiskRegister[[#This Row],[Residual-I-L-Combo]],RiskRegister[[#This Row],[Inherent-I-L-Combo]]) -> Very High-Possible | AP13: =IF(Z13="Closed", X13, P13) -> Medium
A14: 11 | B14: Risk 11 | C14: sec11 | D14: 45393 | E14: sec11 | F14: sec11 | G14: Ransomware | I14: Sales | L14: Very Low | M14: =VLOOKUP(RiskRegister[[#This Row],[Inherent Impact Level]],'Rating factors'!$F$4:$G$9,2,FALSE) -> 1 | N14: Possible | O14: =VLOOKUP(RiskRegister[[#This Row],[Inherent Likelihood Level]],'Rating factors'!$F$16:$G$21,2,FALSE) -> 3 | P14: =IFERROR(VLOOKUP(RiskRegister[[#This Row],[Inherent Risk Rating]],'Rating factors'!$F$30:$G$44,2,FALSE),"-- Error --") -> Low | Q14: =IFERROR(RiskRegister[[#This Row],[Inherent Impact Rating]]*RiskRegister[[#This Row],[Inherent Likelihood Rating]],"-- Error --") -> 3 | R14: Mitigate | T14: Very Low | U14: =VLOOKUP(RiskRegister[[#This Row],[Residual Impact Level]],'Rating factors'!$F$4:$G$9,2,FALSE) -> 1 | V14: Likely | W14: =VLOOKUP(RiskRegister[[#This Row],[Residual Likelihood Level]],'Rating factors'!$F$16:$G$21,2,FALSE) -> 4 | X14: =IFERROR(VLOOKUP(RiskRegister[[#This Row],[Residual Risk Rating]],'Rating factors'!$F$30:$G$44,2,FALSE),"-- Error --") -> Low | Y14: =IFERROR(RiskRegister[[#This Row],[Residual Impact Rating]]*RiskRegister[[#This Row],[Residual Likelihood Rating]],"-- Error --") -> 4 | Z14: In Progress | AB14: 45567 | AD14: =IF(ISBLANK(RiskRegister[[#This Row],[Risk Due Date]]), "Missing Risk Due Date", IF(RiskRegister[[#This Row],[Risk Due Date]] < TODAY(), "Overdue", "Not Overdue")) -> Overdue | AF14: =IF(ISBLANK(RiskRegister[[#This Row],[Risk Due Date]]), "Missing Risk Due Date", TEXT(RiskRegister[[#This Row],[Risk Due Date]], "YYYY-MM")) -> 2024-10 | AG14: =IF(RiskRegister[[#This Row],[Created Date]]="","Created Date missing",(TEXT(RiskRegister[[#This Row],[Created Date]],"mmm") & "-" & YEAR(RiskRegister[[#This Row],[Created Date]]))) -> Apr-2024 | AH14: =IF(RiskRegister[[#This Row],[Risk Status]]="Closed",RiskRegister[[#This Row],[Risk Close Date]],RiskRegister[[#This Row],[Risk Due Date]]) -> 45567 | AI14: =IF(RiskRegister[[#This Row],[Risk-Change-Date]]=0,DATE(2030,1,1),RiskRegister[[#This Row],[Risk-Change-Date]]) -> 45567 | AJ14: =RiskRegister[[#This Row],[Inherent Impact Level]]&"-"&RiskRegister[[#This Row],[Inherent Likelihood Level]] -> Very Low-Possible | AK14: =RiskRegister[[#This Row],[Residual Impact Level]]&"-"&RiskRegister[[#This Row],[Residual Likelihood Level]] -> Very Low-Likely | AL14: =IF(OR(R14="-- Select Risk Response --", Z14="-- Select Risk Status --"), "Error", IF(AND(Z14="Closed", R14="Mitigate"), "Yes", "No")) -> No | AM14: =IF(RiskRegister[[#This Row],[Risk Status]]="Closed",RiskRegister[[#This Row],[Residual Impact Level]],RiskRegister[[#This Row],[Inherent Impact Level]]) -> Very Low | AN14: =IF(RiskRegister[[#This Row],[Risk Status]]="Closed",RiskRegister[[#This Row],[Residual Likelihood Level]],RiskRegister[[#This Row],[Inherent Likelihood Level]]) -> Possible | AO14: =IF(RiskRegister[[#This Row],[Risk Status]]="Closed",RiskRegister[[#This Row],[Residual-I-L-Combo]],RiskRegister[[#This Row],[Inherent-I-L-Combo]]) -> Very Low-Possible | AP14: =IF(Z14="Closed", X14, P14) -> Low
A15: 12 | B15: Risk 12 | C15: sec12 | D15: 45394 | E15: sec12 | F15: sec12 | G15: Insider Threats | I15: Sales | L15: Low | M15: =VLOOKUP(RiskRegister[[#This Row],[Inherent Impact Level]],'Rating factors'!$F$4:$G$9,2,FALSE) -> 2 | N15: Highly Likely | O15: =VLOOKUP(RiskRegister[[#This Row],[Inherent Likelihood Level]],'Rating factors'!$F$16:$G$21,2,FALSE) -> 5 | P15: =IFERROR(VLOOKUP(RiskRegister[[#This Row],[Inherent Risk Rating]],'Rating factors'!$F$30:$G$44,2,FALSE),"-- Error --") -> Medium | Q15: =IFERROR(RiskRegister[[#This Row],[Inherent Impact Rating]]*RiskRegister[[#This Row],[Inherent Likelihood Rating]],"-- Error --") -> 10 | R15: Mitigate | T15: Very Low | U15: =VLOOKUP(RiskRegister[[#This Row],[Residual Impact Level]],'Rating factors'!$F$4:$G$9,2,FALSE) -> 1 | V15: Likely | W15: =VLOOKUP(RiskRegister[[#This Row],[Residual Likelihood Level]],'Rating factors'!$F$16:$G$21,2,FALSE) -> 4 | X15: =IFERROR(VLOOKUP(RiskRegister[[#This Row],[Residual Risk Rating]],'Rating factors'!$F$30:$G$44,2,FALSE),"-- Error --") -> Low | Y15: =IFERROR(RiskRegister[[#This Row],[Residual Impact Rating]]*RiskRegister[[#This Row],[Residual Likelihood Rating]],"-- Error --") -> 4 | Z15: In Progress | AB15: 45626 | AD15: =IF(ISBLANK(RiskRegister[[#This Row],[Risk Due Date]]), "Missing Risk Due Date", IF(RiskRegister[[#This Row],[Risk Due Date]] < TODAY(), "Overdue", "Not Overdue")) -> Overdue | AF15: =IF(ISBLANK(RiskRegister[[#This Row],[Risk Due Date]]), "Missing Risk Due Date", TEXT(RiskRegister[[#This Row],[Risk Due Date]], "YYYY-MM")) -> 2024-11 | AG15: =IF(RiskRegister[[#This Row],[Created Date]]="","Created Date missing",(TEXT(RiskRegister[[#This Row],[Created Date]],"mmm") & "-" & YEAR(RiskRegister[[#This Row],[Created Date]]))) -> Apr-2024 | AH15: =IF(RiskRegister[[#This Row],[Risk Status]]="Closed",RiskRegister[[#This Row],[Risk Close Date]],RiskRegister[[#This Row],[Risk Due Date]]) -> 45626 | AI15: =IF(RiskRegister[[#This Row],[Risk-Change-Date]]=0,DATE(2030,1,1),RiskRegister[[#This Row],[Risk-Change-Date]]) -> 45626 | AJ15: =RiskRegister[[#This Row],[Inherent Impact Level]]&"-"&RiskRegister[[#This Row],[Inherent Likelihood Level]] -> Low-Highly Likely | AK15: =RiskRegister[[#This Row],[Residual Impact Level]]&"-"&RiskRegister[[#This Row],[Residual Likelihood Level]] -> Very Low-Likely | AL15: =IF(OR(R15="-- Select Risk Response --", Z15="-- Select Risk Status --"), "Error", IF(AND(Z15="Closed", R15="Mitigate"), "Yes", "No")) -> No | AM15: =IF(RiskRegister[[#This Row],[Risk Status]]="Closed",RiskRegister[[#This Row],[Residual Impact Level]],RiskRegister[[#This Row],[Inherent Impact Level]]) -> Low | AN15: =IF(RiskRegister[[#This Row],[Risk Status]]="Closed",RiskRegister[[#This Row],[Residual Likelihood Level]],RiskRegister[[#This Row],[Inherent Likelihood Level]]) -> Highly Likely | AO15: =IF(RiskRegister[[#This Row],[Risk Status]]="Closed",RiskRegister[[#This Row],[Residual-I-L-Combo]],RiskRegister[[#This Row],[Inherent-I-L-Combo]]) -> Low-Highly Likely | AP15: =IF(Z15="Closed", X15, P15) -> Medium
A16: 13 | B16: Risk 13 | C16: sec13 | D16: 45395 | E16: sec13 | F16: sec13 | G16: Supply Chain | I16: Finance | L16: Moderate | M16: =VLOOKUP(RiskRegister[[#This Row],[Inherent Impact Level]],'Rating factors'!$F$4:$G$9,2,FALSE) -> 3 | N16: Highly Likely | O16: =VLOOKUP(RiskRegister[[#This Row],[Inherent Likelihood Level]],'Rating factors'!$F$16:$G$21,2,FALSE) -> 5 | P16: =IFERROR(VLOOKUP(RiskRegister[[#This Row],[Inherent Risk Rating]],'Rating factors'!$F$30:$G$44,2,FALSE),"-- Error --") -> Medium | Q16: =IFERROR(RiskRegister[[#This Row],[Inherent Impact Rating]]*RiskRegister[[#This Row],[Inherent Likelihood Rating]],"-- Error --") -> 15 | R16: Mitigate | T16: Low | U16: =VLOOKUP(RiskRegister[[#This Row],[Residual Impact Level]],'Rating factors'!$F$4:$G$9,2,FALSE) -> 2 | V16: Likely | W16: =VLOOKUP(RiskRegister[[#This Row],[Residual Likelihood Level]],'Rating factors'!$F$16:$G$21,2,FALSE) -> 4 | X16: =IFERROR(VLOOKUP(RiskRegister[[#This Row],[Residual Risk Rating]],'Rating factors'!$F$30:$G$44,2,FALSE),"-- Error --") -> Medium | Y16: =IFERROR(RiskRegister[[#This Row],[Residual Impact Rating]]*RiskRegister[[#This Row],[Residual Likelihood Rating]],"-- Error --") -> 8 | Z16: In Progress | AB16: 45631 | AD16: =IF(ISBLANK(RiskRegister[[#This Row],[Risk Due Date]]), "Missing Risk Due Date", IF(RiskRegister[[#This Row],[Risk Due Date]] < TODAY(), "Overdue", "Not Overdue")) -> Overdue | AF16: =IF(ISBLANK(RiskRegister[[#This Row],[Risk Due Date]]), "Missing Risk Due Date", TEXT(RiskRegister[[#This Row],[Risk Due Date]], "YYYY-MM")) -> 2024-12 | AG16: =IF(RiskRegister[[#This Row],[Created Date]]="","Created Date missing",(TEXT(RiskRegister[[#This Row],[Created Date]],"mmm") & "-" & YEAR(RiskRegister[[#This Row],[Created Date]]))) -> Apr-2024 | AH16: =IF(RiskRegister[[#This Row],[Risk Status]]="Closed",RiskRegister[[#This Row],[Risk Close Date]],RiskRegister[[#This Row],[Risk Due Date]]) -> 45631 | AI16: =IF(RiskRegister[[#This Row],[Risk-Change-Date]]=0,DATE(2030,1,1),RiskRegister[[#This Row],[Risk-Change-Date]]) -> 45631 | AJ16: =RiskRegister[[#This Row],[Inherent Impact Level]]&"-"&RiskRegister[[#This Row],[Inherent Likelihood Level]] -> Moderate-Highly Likely | AK16: =RiskRegister[[#This Row],[Residual Impact Level]]&"-"&RiskRegister[[#This Row],[Residual Likelihood Level]] -> Low-Likely | AL16: =IF(OR(R16="-- Select Risk Response --", Z16="-- Select Risk Status --"), "Error", IF(AND(Z16="Closed", R16="Mitigate"), "Yes", "No")) -> No | AM16: =IF(RiskRegister[[#This Row],[Risk Status]]="Closed",RiskRegister[[#This Row],[Residual Impact Level]],RiskRegister[[#This Row],[Inherent Impact Level]]) -> Moderate | AN16: =IF(RiskRegister[[#This Row],[Risk Status]]="Closed",RiskRegister[[#This Row],[Residual Likelihood Level]],RiskRegister[[#This Row],[Inherent Likelihood Level]]) -> Highly Likely | AO16: =IF(RiskRegister[[#This Row],[Risk Status]]="Closed",RiskRegister[[#This Row],[Residual-I-L-Combo]],RiskRegister[[#This Row],[Inherent-I-L-Combo]]) -> Moderate-Highly Likely | AP16: =IF(Z16="Closed", X16, P16) -> Medium
A17: 14 | B17: Risk 14 | C17: sec14 | D17: 45396 | E17: sec14 | F17: sec14 | G17: System Vulnerabilities | I17: Legal | L17: High | M17: =VLOOKUP(RiskRegister[[#This Row],[Inherent Impact Level]],'Rating factors'!$F$4:$G$9,2,FALSE) -> 4 | N17: Highly Likely | O17: =VLOOKUP(RiskRegister[[#This Row],[Inherent Likelihood Level]],'Rating factors'!$F$16:$G$21,2,FALSE) -> 5 | P17: =IFERROR(VLOOKUP(RiskRegister[[#This Row],[Inherent Risk Rating]],'Rating factors'!$F$30:$G$44,2,FALSE),"-- Error --") -> High | Q17: =IFERROR(RiskRegister[[#This Row],[Inherent Impact Rating]]*RiskRegister[[#This Row],[Inherent Likelihood Rating]],"-- Error --") -> 20 | R17: Mitigate | T17: Very Low | U17: =VLOOKUP(RiskRegister[[#This Row],[Residual Impact Level]],'Rating factors'!$F$4:$G$9,2,FALSE) -> 1 | V17: Likely | W17: =VLOOKUP(RiskRegister[[#This Row],[Residual Likelihood Level]],'Rating factors'!$F$16:$G$21,2,FALSE) -> 4 | X17: =IFERROR(VLOOKUP(RiskRegister[[#This Row],[Residual Risk Rating]],'Rating factors'!$F$30:$G$44,2,FALSE),"-- Error --") -> Low | Y17: =IFERROR(RiskRegister[[#This Row],[Residual Impact Rating]]*RiskRegister[[#This Row],[Residual Likelihood Rating]],"-- Error --") -> 4 | Z17: In Progress | AB17: 45310 | AD17: =IF(ISBLANK(RiskRegister[[#This Row],[Risk Due Date]]), "Missing Risk Due Date", IF(RiskRegister[[#This Row],[Risk Due Date]] < TODAY(), "Overdue", "Not Overdue")) -> Overdue | AF17: =IF(ISBLANK(RiskRegister[[#This Row],[Risk Due Date]]), "Missing Risk Due Date", TEXT(RiskRegister[[#This Row],[Risk Due Date]], "YYYY-MM")) -> 2024-01 | AG17: =IF(RiskRegister[[#This Row],[Created Date]]="","Created Date missing",(TEXT(RiskRegister[[#This Row],[Created Date]],"mmm") & "-" & YEAR(RiskRegister[[#This Row],[Created Date]]))) -> Apr-2024 | AH17: =IF(RiskRegister[[#This Row],[Risk Status]]="Closed",RiskRegister[[#This Row],[Risk Close Date]],RiskRegister[[#This Row],[Risk Due Date]]) -> 45310 | AI17: =IF(RiskRegister[[#This Row],[Risk-Change-Date]]=0,DATE(2030,1,1),RiskRegister[[#This Row],[Risk-Change-Date]]) -> 45310 | AJ17: =RiskRegister[[#This Row],[Inherent Impact Level]]&"-"&RiskRegister[[#This Row],[Inherent Likelihood Level]] -> High-Highly Likely | AK17: =RiskRegister[[#This Row],[Residual Impact Level]]&"-"&RiskRegister[[#This Row],[Residual Likelihood Level]] -> Very Low-Likely | AL17: =IF(OR(R17="-- Select Risk Response --", Z17="-- Select Risk Status --"), "Error", IF(AND(Z17="Closed", R17="Mitigate"), "Yes", "No")) -> No | AM17: =IF(RiskRegister[[#This Row],[Risk Status]]="Closed",RiskRegister[[#This Row],[Residual Impact Level]],RiskRegister[[#This Row],[Inherent Impact Level]]) -> High | AN17: =IF(RiskRegister[[#This Row],[Risk Status]]="Closed",RiskRegister[[#This Row],[Residual Likelihood Level]],RiskRegister[[#This Row],[Inherent Likelihood Level]]) -> Highly Likely | AO17: =IF(RiskRegister[[#This Row],[Risk Status]]="Closed",RiskRegister[[#This Row],[Residual-I-L-Combo]],RiskRegister[[#This Row],[Inherent-I-L-Combo]]) -> High-Highly Likely | AP17: =IF(Z17="Closed", X17, P17) -> High
A18: 15 | B18: Risk 15 | C18: sec15 | D18: 45550 | E18: sec15 | F18: sec15 | G18: Social Engineering | I18: Procurement | L18: Very High | M18: =VLOOKUP(RiskRegister[[#This Row],[Inherent Impact Level]],'Rating factors'!$F$4:$G$9,2,FALSE) -> 5 | N18: Highly Likely | O18: =VLOOKUP(RiskRegister[[#This Row],[Inherent Likelihood Level]],'Rating factors'!$F$16:$G$21,2,FALSE) -> 5 | P18: =IFERROR(VLOOKUP(RiskRegister[[#This Row],[Inherent Risk Rating]],'Rating factors'!$F$30:$G$44,2,FALSE),"-- Error --") -> High | Q18: =IFERROR(RiskRegister[[#This Row],[Inherent Impact Rating]]*RiskRegister[[#This Row],[Inherent Likelihood Rating]],"-- Error --") -> 25 | R18: Mitigate | T18: Low | U18: =VLOOKUP(RiskRegister[[#This Row],[Residual Impact Level]],'Rating factors'!$F$4:$G$9,2,FALSE) -> 2 | V18: Likely | W18: =VLOOKUP(RiskRegister[[#This Row],[Residual Likelihood Level]],'Rating factors'!$F$16:$G$21,2,FALSE) -> 4 | X18: =IFERROR(VLOOKUP(RiskRegister[[#This Row],[Residual Risk Rating]],'Rating factors'!$F$30:$G$44,2,FALSE),"-- Error --") -> Medium | Y18: =IFERROR(RiskRegister[[#This Row],[Residual Impact Rating]]*RiskRegister[[#This Row],[Residual Likelihood Rating]],"-- Error --") -> 8 | Z18: In Progress | AB18: 45449 | AD18: =IF(ISBLANK(RiskRegister[[#This Row],[Risk Due Date]]), "Missing Risk Due Date", IF(RiskRegister[[#This Row],[Risk Due Date]] < TODAY(), "Overdue", "Not Overdue")) -> Overdue | AF18: =IF(ISBLANK(RiskRegister[[#This Row],[Risk Due Date]]), "Missing Risk Due Date", TEXT(RiskRegister[[#This Row],[Risk Due Date]], "YYYY-MM")) -> 2024-06 | AG18: =IF(RiskRegister[[#This Row],[Created Date]]="","Created Date missing",(TEXT(RiskRegister[[#This Row],[Created Date]],"mmm") & "-" & YEAR(RiskRegister[[#This Row],[Created Date]]))) -> Sep-2024 | AH18: =IF(RiskRegister[[#This Row],[Risk Status]]="Closed",RiskRegister[[#This Row],[Risk Close Date]],RiskRegister[[#This Row],[Risk Due Date]]) -> 45449 | AI18: =IF(RiskRegister[[#This Row],[Risk-Change-Date]]=0,DATE(2030,1,1),RiskRegister[[#This Row],[Risk-Change-Date]]) -> 45449 | AJ18: =RiskRegister[[#This Row],[Inherent Impact Level]]&"-"&RiskRegister[[#This Row],[Inherent Likelihood Level]] -> Very High-Highly Likely | AK18: =RiskRegister[[#This Row],[Residual Impact Level]]&"-"&RiskRegister[[#This Row],[Residual Likelihood Level]] -> Low-Likely | AL18: =IF(OR(R18="-- Select Risk Response --", Z18="-- Select Risk Status --"), "Error", IF(AND(Z18="Closed", R18="Mitigate"), "Yes", "No")) -> No | AM18: =IF(RiskRegister[[#This Row],[Risk Status]]="Closed",RiskRegister[[#This Row],[Residual Impact Level]],RiskRegister[[#This Row],[Inherent Impact Level]]) -> Very High | AN18: =IF(RiskRegister[[#This Row],[Risk Status]]="Closed",RiskRegister[[#This Row],[Residual Likelihood Level]],RiskRegister[[#This Row],[Inherent Likelihood Level]]) -> Highly Likely | AO18: =IF(RiskRegister[[#This Row],[Risk Status]]="Closed",RiskRegister[[#This Row],[Residual-I-L-Combo]],RiskRegister[[#This Row],[Inherent-I-L-Combo]]) -> Very High-Highly Likely | AP18: =IF(Z18="Closed", X18, P18) -> High
